BEGIN:VCALENDAR
VERSION:2.0
PRODID:-//Aspire Credit Union - ECPv6.15.20//NONSGML v1.0//EN
CALSCALE:GREGORIAN
METHOD:PUBLISH
X-WR-CALNAME:Aspire Credit Union
X-ORIGINAL-URL:https://aspire.creditunion
X-WR-CALDESC:Events for Aspire Credit Union
REFRESH-INTERVAL;VALUE=DURATION:PT1H
X-Robots-Tag:noindex
X-PUBLISHED-TTL:PT1H
BEGIN:VTIMEZONE
TZID:UTC
BEGIN:STANDARD
TZOFFSETFROM:+0000
TZOFFSETTO:+0000
TZNAME:UTC
DTSTART:20230101T000000
END:STANDARD
END:VTIMEZONE
BEGIN:VEVENT
DTSTART;VALUE=DATE:20241111
DTEND;VALUE=DATE:20241112
DTSTAMP:20260423T221822
CREATED:20231101T210756Z
LAST-MODIFIED:20231103T151145Z
UID:239542-1731283200-1731369599@aspire.creditunion
SUMMARY:Federal Holiday
DESCRIPTION:The Credit Union is closed on Monday\, November 11\, 2024\, in observance of the Federal Holiday.
URL:https://aspire.creditunion/event/federal-holiday-12/
ATTACH;FMTTYPE=image/png:https://aspire.creditunion/wp-content/uploads/2022/01/Copy-of-Unnamed-Design-1.png
END:VEVENT
END:VCALENDAR