BEGIN:VCALENDAR
VERSION:2.0
PRODID:-//Aspire Credit Union - ECPv6.15.20//NONSGML v1.0//EN
CALSCALE:GREGORIAN
METHOD:PUBLISH
X-ORIGINAL-URL:https://aspire.creditunion
X-WR-CALDESC:Events for Aspire Credit Union
REFRESH-INTERVAL;VALUE=DURATION:PT1H
X-Robots-Tag:noindex
X-PUBLISHED-TTL:PT1H
BEGIN:VTIMEZONE
TZID:UTC
BEGIN:STANDARD
TZOFFSETFROM:+0000
TZOFFSETTO:+0000
TZNAME:UTC
DTSTART:20240101T000000
END:STANDARD
END:VTIMEZONE
BEGIN:VEVENT
DTSTART;VALUE=DATE:20250901
DTEND;VALUE=DATE:20250902
DTSTAMP:20260423T060650
CREATED:20241210T171859Z
LAST-MODIFIED:20241210T171859Z
UID:240718-1756684800-1756771199@aspire.creditunion
SUMMARY:Federal Holiday 2025
DESCRIPTION:The Credit Union is closed on Monday\, September 1\, 2025\, in observance of the Federal Holiday.
URL:https://aspire.creditunion/event/federal-holiday-2025-6/
LOCATION:Aspire Credit Union\, 1430 South Broadway\, Minot\, 58701\, United States
ATTACH;FMTTYPE=image/png:https://aspire.creditunion/wp-content/uploads/2024/12/Closing-Early-89.png
END:VEVENT
END:VCALENDAR