BEGIN:VCALENDAR
VERSION:2.0
PRODID:-//Aspire Credit Union - ECPv6.15.20//NONSGML v1.0//EN
CALSCALE:GREGORIAN
METHOD:PUBLISH
X-ORIGINAL-URL:https://aspire.creditunion
X-WR-CALDESC:Events for Aspire Credit Union
REFRESH-INTERVAL;VALUE=DURATION:PT1H
X-Robots-Tag:noindex
X-PUBLISHED-TTL:PT1H
BEGIN:VTIMEZONE
TZID:UTC
BEGIN:STANDARD
TZOFFSETFROM:+0000
TZOFFSETTO:+0000
TZNAME:UTC
DTSTART:20230101T000000
END:STANDARD
END:VTIMEZONE
BEGIN:VEVENT
DTSTART;TZID=UTC:20240913T110000
DTEND;TZID=UTC:20240913T140000
DTSTAMP:20260426T041253
CREATED:20240415T190242Z
LAST-MODIFIED:20240415T190242Z
UID:240063-1726225200-1726236000@aspire.creditunion
SUMMARY:Backdraft BBQ
DESCRIPTION:Food Truck Friday presents Backdraft BBQ
URL:https://aspire.creditunion/event/backdraft-bbq-10/
LOCATION:Aspire Credit Union\, 1430 South Broadway\, Minot\, 58701\, United States
ATTACH;FMTTYPE=image/png:https://aspire.creditunion/wp-content/uploads/2022/03/Closing-Early-13.png
END:VEVENT
BEGIN:VEVENT
DTSTART;TZID=UTC:20240920T110000
DTEND;TZID=UTC:20240920T140000
DTSTAMP:20260426T041253
CREATED:20240415T190334Z
LAST-MODIFIED:20240415T190334Z
UID:240061-1726830000-1726840800@aspire.creditunion
SUMMARY:Bears Kitchen
DESCRIPTION:Food Truck Friday presents Bears Kitchen
URL:https://aspire.creditunion/event/bears-kitchen-4/
LOCATION:Aspire Credit Union\, 1430 South Broadway\, Minot\, 58701\, United States
ATTACH;FMTTYPE=image/png:https://aspire.creditunion/wp-content/uploads/2024/04/Closing-Early-72.png
END:VEVENT
BEGIN:VEVENT
DTSTART;TZID=UTC:20240927T110000
DTEND;TZID=UTC:20240927T140000
DTSTAMP:20260426T041253
CREATED:20240415T190354Z
LAST-MODIFIED:20240415T190354Z
UID:240059-1727434800-1727445600@aspire.creditunion
SUMMARY:Poppa's Place
DESCRIPTION:Food Truck Friday presents Poppa’s Place
URL:https://aspire.creditunion/event/poppas-place-5/
LOCATION:Aspire Credit Union\, 1430 South Broadway\, Minot\, 58701\, United States
ATTACH;FMTTYPE=image/png:https://aspire.creditunion/wp-content/uploads/2023/04/Closing-Early-57.png
END:VEVENT
END:VCALENDAR