BEGIN:VCALENDAR
VERSION:2.0
PRODID:-//Aspire Credit Union - ECPv6.15.20//NONSGML v1.0//EN
CALSCALE:GREGORIAN
METHOD:PUBLISH
X-WR-CALNAME:Aspire Credit Union
X-ORIGINAL-URL:https://aspire.creditunion
X-WR-CALDESC:Events for Aspire Credit Union
REFRESH-INTERVAL;VALUE=DURATION:PT1H
X-Robots-Tag:noindex
X-PUBLISHED-TTL:PT1H
BEGIN:VTIMEZONE
TZID:UTC
BEGIN:STANDARD
TZOFFSETFROM:+0000
TZOFFSETTO:+0000
TZNAME:UTC
DTSTART:20240101T000000
END:STANDARD
END:VTIMEZONE
BEGIN:VEVENT
DTSTART;TZID=UTC:20250613T110000
DTEND;TZID=UTC:20250613T140000
DTSTAMP:20260425T134026
CREATED:20250328T211703Z
LAST-MODIFIED:20250328T211703Z
UID:241050-1749812400-1749823200@aspire.creditunion
SUMMARY:Bears Kitchen
DESCRIPTION:Food Truck Friday presents Bears Kitchen
URL:https://aspire.creditunion/event/bears-kitchen-7/
LOCATION:Aspire Credit Union\, 1430 South Broadway\, Minot\, 58701\, United States
ATTACH;FMTTYPE=image/png:https://aspire.creditunion/wp-content/uploads/2024/04/Closing-Early-72.png
END:VEVENT
BEGIN:VEVENT
DTSTART;TZID=UTC:20250620T110000
DTEND;TZID=UTC:20250620T140000
DTSTAMP:20260425T134026
CREATED:20250328T212318Z
LAST-MODIFIED:20250328T212318Z
UID:241069-1750417200-1750428000@aspire.creditunion
SUMMARY:Backdraft BBQ
DESCRIPTION:Food Truck Friday presents Backdraft BBQ
URL:https://aspire.creditunion/event/backdraft-bbq-14/
LOCATION:Aspire Credit Union\, 1430 South Broadway\, Minot\, 58701\, United States
ATTACH;FMTTYPE=image/png:https://aspire.creditunion/wp-content/uploads/2022/03/Closing-Early-13.png
END:VEVENT
BEGIN:VEVENT
DTSTART;VALUE=DATE:20250623
DTEND;VALUE=DATE:20250628
DTSTAMP:20260425T134026
CREATED:20250210T190400Z
LAST-MODIFIED:20250328T165505Z
UID:240845-1750636800-1751068799@aspire.creditunion
SUMMARY:2025 Member Appreciation Week
DESCRIPTION:Join us for Member Appreciation Week.\nAll activities are FREE for members.\n  \nDetails to come! \n  \n  \n  \n  \n  \n  \n  \n  \n  \n  \n  \n  \n  \n  \n  \n  \n  \n  \n  \n  \n  \n  \n 
URL:https://aspire.creditunion/event/2025-member-appreciation-week/
LOCATION:Aspire Credit Union\, 1430 South Broadway\, Minot\, 58701\, United States
ATTACH;FMTTYPE=image/png:https://aspire.creditunion/wp-content/uploads/2023/01/Closing-Early-42.png
END:VEVENT
END:VCALENDAR