BEGIN:VCALENDAR
VERSION:2.0
PRODID:-//Aspire Credit Union - ECPv6.15.20//NONSGML v1.0//EN
CALSCALE:GREGORIAN
METHOD:PUBLISH
X-ORIGINAL-URL:https://aspire.creditunion
X-WR-CALDESC:Events for Aspire Credit Union
REFRESH-INTERVAL;VALUE=DURATION:PT1H
X-Robots-Tag:noindex
X-PUBLISHED-TTL:PT1H
BEGIN:VTIMEZONE
TZID:UTC
BEGIN:STANDARD
TZOFFSETFROM:+0000
TZOFFSETTO:+0000
TZNAME:UTC
DTSTART:20240101T000000
END:STANDARD
END:VTIMEZONE
BEGIN:VEVENT
DTSTART;TZID=UTC:20250711T110000
DTEND;TZID=UTC:20250711T140000
DTSTAMP:20260425T121306
CREATED:20250328T213808Z
LAST-MODIFIED:20250328T213808Z
UID:241088-1752231600-1752242400@aspire.creditunion
SUMMARY:Knockout Kitchen
DESCRIPTION:Food Truck Friday presents – Knockout Kitchen
URL:https://aspire.creditunion/event/knockout-kitchen-2/
LOCATION:Aspire Credit Union\, 1430 South Broadway\, Minot\, 58701\, United States
ATTACH;FMTTYPE=image/png:https://aspire.creditunion/wp-content/uploads/2025/03/Closing-Early-94.png
END:VEVENT
BEGIN:VEVENT
DTSTART;TZID=UTC:20250718T110000
DTEND;TZID=UTC:20250718T140000
DTSTAMP:20260425T121306
CREATED:20250328T211812Z
LAST-MODIFIED:20250328T211812Z
UID:241047-1752836400-1752847200@aspire.creditunion
SUMMARY:Bears Kitchen
DESCRIPTION:Food Truck Friday presents Bears Kitchen
URL:https://aspire.creditunion/event/bears-kitchen-8/
LOCATION:Aspire Credit Union\, 1430 South Broadway\, Minot\, 58701\, United States
ATTACH;FMTTYPE=image/png:https://aspire.creditunion/wp-content/uploads/2024/04/Closing-Early-72.png
END:VEVENT
BEGIN:VEVENT
DTSTART;TZID=UTC:20250725T110000
DTEND;TZID=UTC:20250725T140000
DTSTAMP:20260425T121306
CREATED:20250328T212421Z
LAST-MODIFIED:20250328T212421Z
UID:241070-1753441200-1753452000@aspire.creditunion
SUMMARY:Backdraft BBQ
DESCRIPTION:Food Truck Friday presents Backdraft BBQ
URL:https://aspire.creditunion/event/backdraft-bbq-15/
LOCATION:Aspire Credit Union\, 1430 South Broadway\, Minot\, 58701\, United States
ATTACH;FMTTYPE=image/png:https://aspire.creditunion/wp-content/uploads/2022/03/Closing-Early-13.png
END:VEVENT
END:VCALENDAR