BEGIN:VCALENDAR
VERSION:2.0
PRODID:-//Aspire Credit Union - ECPv6.15.20//NONSGML v1.0//EN
CALSCALE:GREGORIAN
METHOD:PUBLISH
X-ORIGINAL-URL:https://aspire.creditunion
X-WR-CALDESC:Events for Aspire Credit Union
REFRESH-INTERVAL;VALUE=DURATION:PT1H
X-Robots-Tag:noindex
X-PUBLISHED-TTL:PT1H
BEGIN:VTIMEZONE
TZID:UTC
BEGIN:STANDARD
TZOFFSETFROM:+0000
TZOFFSETTO:+0000
TZNAME:UTC
DTSTART:20240101T000000
END:STANDARD
END:VTIMEZONE
BEGIN:VEVENT
DTSTART;TZID=UTC:20250808T110000
DTEND;TZID=UTC:20250808T140000
DTSTAMP:20260425T103602
CREATED:20250328T211841Z
LAST-MODIFIED:20250328T211841Z
UID:241048-1754650800-1754661600@aspire.creditunion
SUMMARY:Bears Kitchen
DESCRIPTION:Food Truck Friday presents Bears Kitchen
URL:https://aspire.creditunion/event/bears-kitchen-9/
LOCATION:Aspire Credit Union\, 1430 South Broadway\, Minot\, 58701\, United States
ATTACH;FMTTYPE=image/png:https://aspire.creditunion/wp-content/uploads/2024/04/Closing-Early-72.png
END:VEVENT
BEGIN:VEVENT
DTSTART;TZID=UTC:20250815T110000
DTEND;TZID=UTC:20250815T140000
DTSTAMP:20260425T103602
CREATED:20250402T205459Z
LAST-MODIFIED:20250402T205459Z
UID:241101-1755255600-1755266400@aspire.creditunion
SUMMARY:Local Lemon
DESCRIPTION:Food Truck Friday presents The Local Lemon
URL:https://aspire.creditunion/event/local-lemon-2/
LOCATION:Aspire Credit Union\, 1430 South Broadway\, Minot\, 58701\, United States
ATTACH;FMTTYPE=image/png:https://aspire.creditunion/wp-content/uploads/2024/04/Closing-Early-73.png
END:VEVENT
BEGIN:VEVENT
DTSTART;TZID=UTC:20250822T110000
DTEND;TZID=UTC:20250822T140000
DTSTAMP:20260425T103602
CREATED:20250328T212618Z
LAST-MODIFIED:20250328T212618Z
UID:241077-1755860400-1755871200@aspire.creditunion
SUMMARY:Poppa's Place
DESCRIPTION:Food Truck Friday presents Poppa’s Place
URL:https://aspire.creditunion/event/poppas-place-6/
LOCATION:Aspire Credit Union\, 1430 South Broadway\, Minot\, 58701\, United States
ATTACH;FMTTYPE=image/png:https://aspire.creditunion/wp-content/uploads/2023/04/Closing-Early-57.png
END:VEVENT
BEGIN:VEVENT
DTSTART;TZID=UTC:20250829T110000
DTEND;TZID=UTC:20250829T140000
DTSTAMP:20260425T103602
CREATED:20250328T212446Z
LAST-MODIFIED:20250328T212446Z
UID:241066-1756465200-1756476000@aspire.creditunion
SUMMARY:Backdraft BBQ
DESCRIPTION:Food Truck Friday presents Backdraft BBQ
URL:https://aspire.creditunion/event/backdraft-bbq-16/
LOCATION:Aspire Credit Union\, 1430 South Broadway\, Minot\, 58701\, United States
ATTACH;FMTTYPE=image/png:https://aspire.creditunion/wp-content/uploads/2022/03/Closing-Early-13.png
END:VEVENT
END:VCALENDAR