BEGIN:VCALENDAR
VERSION:2.0
PRODID:-//Aspire Credit Union - ECPv6.15.20//NONSGML v1.0//EN
CALSCALE:GREGORIAN
METHOD:PUBLISH
X-WR-CALNAME:Aspire Credit Union
X-ORIGINAL-URL:https://aspire.creditunion
X-WR-CALDESC:Events for Aspire Credit Union
REFRESH-INTERVAL;VALUE=DURATION:PT1H
X-Robots-Tag:noindex
X-PUBLISHED-TTL:PT1H
BEGIN:VTIMEZONE
TZID:UTC
BEGIN:STANDARD
TZOFFSETFROM:+0000
TZOFFSETTO:+0000
TZNAME:UTC
DTSTART:20250101T000000
END:STANDARD
END:VTIMEZONE
BEGIN:VEVENT
DTSTART;TZID=UTC:20260501T110000
DTEND;TZID=UTC:20260501T140000
DTSTAMP:20260422T135547
CREATED:20260414T160707Z
LAST-MODIFIED:20260414T160819Z
UID:241925-1777633200-1777644000@aspire.creditunion
SUMMARY:2026 Food Truck Friday
DESCRIPTION:Food Truck Friday at Aspire Credit Union – Home Cooked Filipino Touched Cuisine
URL:https://aspire.creditunion/event/2026-food-truck-friday/
LOCATION:Aspire Credit Union\, 1430 South Broadway\, Minot\, 58701\, United States
ATTACH;FMTTYPE=image/png:https://aspire.creditunion/wp-content/uploads/2026/04/Website-Graphic-18.png
END:VEVENT
BEGIN:VEVENT
DTSTART;TZID=UTC:20260508T110000
DTEND;TZID=UTC:20260508T140000
DTSTAMP:20260422T135547
CREATED:20260414T161027Z
LAST-MODIFIED:20260414T161027Z
UID:241937-1778238000-1778248800@aspire.creditunion
SUMMARY:2026 Food Truck Friday
DESCRIPTION:Food Truck Friday at Aspire Credit Union – Home Cooked Filipino Touched Cuisine
URL:https://aspire.creditunion/event/2026-food-truck-friday-2/
LOCATION:Aspire Credit Union\, 1430 South Broadway\, Minot\, 58701\, United States
ATTACH;FMTTYPE=image/png:https://aspire.creditunion/wp-content/uploads/2026/04/Website-Graphic-18.png
END:VEVENT
BEGIN:VEVENT
DTSTART;TZID=UTC:20260515T110000
DTEND;TZID=UTC:20260515T140000
DTSTAMP:20260422T135547
CREATED:20260414T161145Z
LAST-MODIFIED:20260414T161145Z
UID:241938-1778842800-1778853600@aspire.creditunion
SUMMARY:2026 Food Truck Friday
DESCRIPTION:Food Truck Friday at Aspire Credit Union – Mama Mac’s Kitchen
URL:https://aspire.creditunion/event/2026-food-truck-friday-3/
LOCATION:Aspire Credit Union\, 1430 South Broadway\, Minot\, 58701\, United States
ATTACH;FMTTYPE=image/png:https://aspire.creditunion/wp-content/uploads/2026/04/Website-Graphic-18.png
END:VEVENT
BEGIN:VEVENT
DTSTART;TZID=UTC:20260522T110000
DTEND;TZID=UTC:20260522T140000
DTSTAMP:20260422T135547
CREATED:20260414T161254Z
LAST-MODIFIED:20260414T161254Z
UID:241939-1779447600-1779458400@aspire.creditunion
SUMMARY:2026 Food Truck Friday
DESCRIPTION:Food Truck Friday at Aspire Credit Union – El Encuentro Dominicano
URL:https://aspire.creditunion/event/2026-food-truck-friday-4/
LOCATION:Aspire Credit Union\, 1430 South Broadway\, Minot\, 58701\, United States
ATTACH;FMTTYPE=image/png:https://aspire.creditunion/wp-content/uploads/2026/04/Website-Graphic-18.png
END:VEVENT
BEGIN:VEVENT
DTSTART;TZID=UTC:20260529T110000
DTEND;TZID=UTC:20260529T140000
DTSTAMP:20260422T135547
CREATED:20260415T133515Z
LAST-MODIFIED:20260415T133515Z
UID:241967-1780052400-1780063200@aspire.creditunion
SUMMARY:2026 Food Truck Friday
DESCRIPTION:Food Truck Friday at Aspire Credit Union –  Jenetta’s Simple Treats
URL:https://aspire.creditunion/event/2026-food-truck-friday-21/
LOCATION:Aspire Credit Union\, 1430 South Broadway\, Minot\, 58701\, United States
ATTACH;FMTTYPE=image/png:https://aspire.creditunion/wp-content/uploads/2026/04/Website-Graphic-18.png
END:VEVENT
BEGIN:VEVENT
DTSTART;TZID=UTC:20260605T110000
DTEND;TZID=UTC:20260605T140000
DTSTAMP:20260422T135547
CREATED:20260414T161327Z
LAST-MODIFIED:20260414T161327Z
UID:241940-1780657200-1780668000@aspire.creditunion
SUMMARY:2026 Food Truck Friday
DESCRIPTION:Food Truck Friday at Aspire Credit Union – Home Cooked Filipino Touched Cuisine
URL:https://aspire.creditunion/event/2026-food-truck-friday-5/
LOCATION:Aspire Credit Union\, 1430 South Broadway\, Minot\, 58701\, United States
ATTACH;FMTTYPE=image/png:https://aspire.creditunion/wp-content/uploads/2026/04/Website-Graphic-18.png
END:VEVENT
BEGIN:VEVENT
DTSTART;TZID=UTC:20260612T110000
DTEND;TZID=UTC:20260612T140000
DTSTAMP:20260422T135547
CREATED:20260414T161417Z
LAST-MODIFIED:20260414T161417Z
UID:241931-1781262000-1781272800@aspire.creditunion
SUMMARY:2026 Food Truck Friday
DESCRIPTION:Food Truck Friday at Aspire Credit Union – Doodling Dixies
URL:https://aspire.creditunion/event/2026-food-truck-friday-6/
LOCATION:Aspire Credit Union\, 1430 South Broadway\, Minot\, 58701\, United States
ATTACH;FMTTYPE=image/png:https://aspire.creditunion/wp-content/uploads/2026/04/Website-Graphic-18.png
END:VEVENT
BEGIN:VEVENT
DTSTART;TZID=UTC:20260626T110000
DTEND;TZID=UTC:20260626T140000
DTSTAMP:20260422T135547
CREATED:20260414T161452Z
LAST-MODIFIED:20260414T161452Z
UID:241932-1782471600-1782482400@aspire.creditunion
SUMMARY:2026 Food Truck Friday
DESCRIPTION:Food Truck Friday at Aspire Credit Union – Knockout Kitchen
URL:https://aspire.creditunion/event/2026-food-truck-friday-7/
LOCATION:Aspire Credit Union\, 1430 South Broadway\, Minot\, 58701\, United States
ATTACH;FMTTYPE=image/png:https://aspire.creditunion/wp-content/uploads/2026/04/Website-Graphic-18.png
END:VEVENT
BEGIN:VEVENT
DTSTART;TZID=UTC:20260710T110000
DTEND;TZID=UTC:20260710T140000
DTSTAMP:20260422T135547
CREATED:20260414T161539Z
LAST-MODIFIED:20260414T161539Z
UID:241933-1783681200-1783692000@aspire.creditunion
SUMMARY:2026 Food Truck Friday
DESCRIPTION:Food Truck Friday at Aspire Credit Union – Senor Taco
URL:https://aspire.creditunion/event/2026-food-truck-friday-8/
LOCATION:Aspire Credit Union\, 1430 South Broadway\, Minot\, 58701\, United States
ATTACH;FMTTYPE=image/png:https://aspire.creditunion/wp-content/uploads/2026/04/Website-Graphic-18.png
END:VEVENT
BEGIN:VEVENT
DTSTART;TZID=UTC:20260717T110000
DTEND;TZID=UTC:20260717T140000
DTSTAMP:20260422T135547
CREATED:20260414T161627Z
LAST-MODIFIED:20260414T161627Z
UID:241934-1784286000-1784296800@aspire.creditunion
SUMMARY:2026 Food Truck Friday
DESCRIPTION:Food Truck Friday at Aspire Credit Union – Home Cooked Filipino Touched Cuisine
URL:https://aspire.creditunion/event/2026-food-truck-friday-9/
LOCATION:Aspire Credit Union\, 1430 South Broadway\, Minot\, 58701\, United States
ATTACH;FMTTYPE=image/png:https://aspire.creditunion/wp-content/uploads/2026/04/Website-Graphic-18.png
END:VEVENT
BEGIN:VEVENT
DTSTART;TZID=UTC:20260724T110000
DTEND;TZID=UTC:20260724T140000
DTSTAMP:20260422T135547
CREATED:20260414T161816Z
LAST-MODIFIED:20260414T161816Z
UID:241936-1784890800-1784901600@aspire.creditunion
SUMMARY:2026 Food Truck Friday
DESCRIPTION:Food Truck Friday at Aspire Credit Union – Backdraft BBQ
URL:https://aspire.creditunion/event/2026-food-truck-friday-11/
LOCATION:Aspire Credit Union\, 1430 South Broadway\, Minot\, 58701\, United States
ATTACH;FMTTYPE=image/png:https://aspire.creditunion/wp-content/uploads/2026/04/Website-Graphic-18.png
END:VEVENT
BEGIN:VEVENT
DTSTART;TZID=UTC:20260731T110000
DTEND;TZID=UTC:20260731T140000
DTSTAMP:20260422T135547
CREATED:20260414T161908Z
LAST-MODIFIED:20260414T161908Z
UID:241930-1785495600-1785506400@aspire.creditunion
SUMMARY:2026 Food Truck Friday
DESCRIPTION:Food Truck Friday at Aspire Credit Union – Senor Taco
URL:https://aspire.creditunion/event/2026-food-truck-friday-12/
LOCATION:Aspire Credit Union\, 1430 South Broadway\, Minot\, 58701\, United States
ATTACH;FMTTYPE=image/png:https://aspire.creditunion/wp-content/uploads/2026/04/Website-Graphic-18.png
END:VEVENT
BEGIN:VEVENT
DTSTART;TZID=UTC:20260814T110000
DTEND;TZID=UTC:20260814T140000
DTSTAMP:20260422T135547
CREATED:20260414T162143Z
LAST-MODIFIED:20260414T162143Z
UID:241953-1786705200-1786716000@aspire.creditunion
SUMMARY:2026 Food Truck Friday
DESCRIPTION:Food Truck Friday at Aspire Credit Union – Backdraft BBQ
URL:https://aspire.creditunion/event/2026-food-truck-friday-14/
LOCATION:Aspire Credit Union\, 1430 South Broadway\, Minot\, 58701\, United States
ATTACH;FMTTYPE=image/png:https://aspire.creditunion/wp-content/uploads/2026/04/Website-Graphic-18.png
END:VEVENT
BEGIN:VEVENT
DTSTART;TZID=UTC:20260821T110000
DTEND;TZID=UTC:20260821T140000
DTSTAMP:20260422T135547
CREATED:20260414T162229Z
LAST-MODIFIED:20260414T162229Z
UID:241957-1787310000-1787320800@aspire.creditunion
SUMMARY:2026 Food Truck Friday
DESCRIPTION:Food Truck Friday at Aspire Credit Union – Backdraft BBQ
URL:https://aspire.creditunion/event/2026-food-truck-friday-15/
LOCATION:Aspire Credit Union\, 1430 South Broadway\, Minot\, 58701\, United States
ATTACH;FMTTYPE=image/png:https://aspire.creditunion/wp-content/uploads/2026/04/Website-Graphic-18.png
END:VEVENT
BEGIN:VEVENT
DTSTART;TZID=UTC:20260828T110000
DTEND;TZID=UTC:20260828T140000
DTSTAMP:20260422T135547
CREATED:20260414T162308Z
LAST-MODIFIED:20260414T162308Z
UID:241958-1787914800-1787925600@aspire.creditunion
SUMMARY:2026 Food Truck Friday
DESCRIPTION:Food Truck Friday at Aspire Credit Union – Backdraft BBQ
URL:https://aspire.creditunion/event/2026-food-truck-friday-16/
LOCATION:Aspire Credit Union\, 1430 South Broadway\, Minot\, 58701\, United States
ATTACH;FMTTYPE=image/png:https://aspire.creditunion/wp-content/uploads/2026/04/Website-Graphic-18.png
END:VEVENT
BEGIN:VEVENT
DTSTART;TZID=UTC:20260904T110000
DTEND;TZID=UTC:20260904T140000
DTSTAMP:20260422T135547
CREATED:20260414T162343Z
LAST-MODIFIED:20260414T162343Z
UID:241959-1788519600-1788530400@aspire.creditunion
SUMMARY:2026 Food Truck Friday
DESCRIPTION:Food Truck Friday at Aspire Credit Union – Senor Taco
URL:https://aspire.creditunion/event/2026-food-truck-friday-17/
LOCATION:Aspire Credit Union\, 1430 South Broadway\, Minot\, 58701\, United States
ATTACH;FMTTYPE=image/png:https://aspire.creditunion/wp-content/uploads/2026/04/Website-Graphic-18.png
END:VEVENT
BEGIN:VEVENT
DTSTART;TZID=UTC:20260918T110000
DTEND;TZID=UTC:20260918T140000
DTSTAMP:20260422T135547
CREATED:20260414T162438Z
LAST-MODIFIED:20260414T162438Z
UID:241956-1789729200-1789740000@aspire.creditunion
SUMMARY:2026 Food Truck Friday
DESCRIPTION:Food Truck Friday at Aspire Credit Union – Backdraft BBQ
URL:https://aspire.creditunion/event/2026-food-truck-friday-18/
LOCATION:Aspire Credit Union\, 1430 South Broadway\, Minot\, 58701\, United States
ATTACH;FMTTYPE=image/png:https://aspire.creditunion/wp-content/uploads/2026/04/Website-Graphic-18.png
END:VEVENT
BEGIN:VEVENT
DTSTART;TZID=UTC:20260925T110000
DTEND;TZID=UTC:20260925T140000
DTSTAMP:20260422T135547
CREATED:20260414T162520Z
LAST-MODIFIED:20260414T162520Z
UID:241954-1790334000-1790344800@aspire.creditunion
SUMMARY:2026 Food Truck Friday
DESCRIPTION:Food Truck Friday at Aspire Credit Union – Senor Taco
URL:https://aspire.creditunion/event/2026-food-truck-friday-19/
LOCATION:Aspire Credit Union\, 1430 South Broadway\, Minot\, 58701\, United States
ATTACH;FMTTYPE=image/png:https://aspire.creditunion/wp-content/uploads/2026/04/Website-Graphic-18.png
END:VEVENT
BEGIN:VEVENT
DTSTART;TZID=UTC:20261002T110000
DTEND;TZID=UTC:20261002T140000
DTSTAMP:20260422T135547
CREATED:20260414T162551Z
LAST-MODIFIED:20260414T162551Z
UID:241955-1790938800-1790949600@aspire.creditunion
SUMMARY:2026 Food Truck Friday
DESCRIPTION:Food Truck Friday at Aspire Credit Union – Home Cooked Filipino Touched Cuisine
URL:https://aspire.creditunion/event/2026-food-truck-friday-20/
LOCATION:Aspire Credit Union\, 1430 South Broadway\, Minot\, 58701\, United States
ATTACH;FMTTYPE=image/png:https://aspire.creditunion/wp-content/uploads/2026/04/Website-Graphic-18.png
END:VEVENT
END:VCALENDAR